BEGIN:VCALENDAR
PRODID:-//kirchenweb.ch gmbh//veranstaltungsausgabe v2.0//DE
VERSION:2.0
METHOD:PUBLISH
BEGIN:VEVENT
DTSTART:20260503T080000Z
DTEND:20260503T090000Z
LOCATION:Blasiuskirche\, Dorfstrasse 24\, 9205 Waldkirch
TRANSP:OPAQUE
SEQUENCE:0
UID:42021-veranstaltung@seelsorgeeinheitgossau.ch
DTSTAMP:20251208T100307Z
DESCRIPTION:Kontakt: HK\n\nWeitere Infos:
  https://www.seelsorgeeinheitgossau.ch/veranstaltung/42021
SUMMARY:Erstkommunion in der Blasiuskirche mit Einzug begleitet durch den
  Musikverein Waldkirch
PRIORITY:5
X-MICROSOFT-CDO-IMPORTANCE:1
CLASS:PUBLIC
END:VEVENT
END:VCALENDAR
