BEGIN:VCALENDAR
PRODID:-//kirchenweb.ch gmbh//veranstaltungsausgabe v2.0//DE
VERSION:2.0
METHOD:PUBLISH
BEGIN:VEVENT
DTSTART:20260510T083000Z
DTEND:20260510T093000Z
LOCATION:Blasiuskirche\, Dorfstrasse 24\, 9205 Waldkirch
TRANSP:OPAQUE
SEQUENCE:0
UID:46598-veranstaltung@seelsorgeeinheitgossau.ch
DTSTAMP:20260410T070613Z
DESCRIPTION:Kontakt: HK\n\nWeitere Infos:
  https://www.seelsorgeeinheitgossau.ch/veranstaltung/46598
SUMMARY:Eucharistiefeier und Dankandacht in der Blasiuskirche mit
  Stiftmessen
PRIORITY:5
X-MICROSOFT-CDO-IMPORTANCE:1
CLASS:PUBLIC
END:VEVENT
END:VCALENDAR
