BEGIN:VCALENDAR
PRODID:-//kirchenweb.ch gmbh//veranstaltungsausgabe v2.0//DE
VERSION:2.0
METHOD:PUBLISH
BEGIN:VEVENT
DTSTART:20260426T071500Z
DTEND:20260426T080000Z
LOCATION:Waldkirch\, \,
TRANSP:OPAQUE
SEQUENCE:0
UID:46618-veranstaltung@seelsorgeeinheitgossau.ch
DTSTAMP:20250909T064420Z
DESCRIPTION:Kontakt: admin.waldkirch@seelsorgeeinheitgossau.ch\n\nWeitere
  Infos: https://www.seelsorgeeinheitgossau.ch/veranstaltung/46618
SUMMARY:ökumenischer Gottesdienst an der Gewerbeausstellung
PRIORITY:5
X-MICROSOFT-CDO-IMPORTANCE:1
CLASS:PUBLIC
END:VEVENT
END:VCALENDAR
