BEGIN:VCALENDAR
PRODID:-//kirchenweb.ch gmbh//veranstaltungsausgabe v2.0//DE
VERSION:2.0
METHOD:PUBLISH
BEGIN:VEVENT
DTSTART:20260830T083000Z
DTEND:20260830T093000Z
LOCATION:Blasiuskirche\, Dorfstrasse 24\, 9205 Waldkirch
TRANSP:OPAQUE
SEQUENCE:0
UID:46628-veranstaltung@seelsorgeeinheitgossau.ch
DTSTAMP:20260127T063647Z
DESCRIPTION:Kontakt: HK\n\nWeitere Infos:
  https://www.seelsorgeeinheitgossau.ch/veranstaltung/46628
SUMMARY:Eucharistiefeier in der Blasiuskirche mit dem Chinderchor Pirolis
PRIORITY:5
X-MICROSOFT-CDO-IMPORTANCE:1
CLASS:PUBLIC
END:VEVENT
END:VCALENDAR
