BEGIN:VCALENDAR
PRODID:-//kirchenweb.ch gmbh//veranstaltungsausgabe v2.0//DE
VERSION:2.0
METHOD:PUBLISH
BEGIN:VEVENT
DTSTART:20260627T073000Z
DTEND:20260627T123000Z
LOCATION:Pfarreizentrum\, Dorfstrasse 24\, 9205 Waldkirch
TRANSP:OPAQUE
SEQUENCE:0
UID:47351-veranstaltung@seelsorgeeinheitgossau.ch
DTSTAMP:20260129T092320Z
DESCRIPTION:Kontakt: admin.waldkirch@seelsorgeeinheitgossau.ch\n\nWeitere
  Infos: https://www.seelsorgeeinheitgossau.ch/veranstaltung/47351
SUMMARY:Chinderchor-Probetag
PRIORITY:5
X-MICROSOFT-CDO-IMPORTANCE:1
CLASS:PUBLIC
END:VEVENT
END:VCALENDAR
