BEGIN:VCALENDAR
PRODID:-//kirchenweb.ch gmbh//veranstaltungsausgabe v2.0//DE
VERSION:2.0
METHOD:PUBLISH
BEGIN:VEVENT
DTSTART:20260506T173000Z
DTEND:20260506T183000Z
LOCATION:Kapelle Oberwald\, Obergrimm\, 9205 Waldkirch
TRANSP:OPAQUE
SEQUENCE:0
UID:48645-veranstaltung@seelsorgeeinheitgossau.ch
DTSTAMP:20260219T080225Z
DESCRIPTION:Kontakt: admin.waldkirch@seelsorgeeinheitgossau.ch\n\nWeitere
  Infos: https://www.seelsorgeeinheitgossau.ch/veranstaltung/48645
SUMMARY:Eucharistiefeier in der Kapelle Oberwald mit Flursegnung und der
  Frauengemeinschaft
PRIORITY:5
X-MICROSOFT-CDO-IMPORTANCE:1
CLASS:PUBLIC
END:VEVENT
END:VCALENDAR
