BEGIN:VCALENDAR
PRODID:-//kirchenweb.ch gmbh//veranstaltungsausgabe v2.0//DE
VERSION:2.0
METHOD:PUBLISH
BEGIN:VEVENT
DTSTART:20260429T051500Z
DTEND:20260429T060000Z
LOCATION:Antoniuskapelle\, Dorfstrasse 24\, 9205 Waldkirch
TRANSP:OPAQUE
SEQUENCE:0
UID:48658-veranstaltung@seelsorgeeinheitgossau.ch
DTSTAMP:20260415T045753Z
DESCRIPTION:Kontakt: admin.waldkirch@seelsorgeeinheitgossau.ch\n\nWeitere
  Infos: https://www.seelsorgeeinheitgossau.ch/veranstaltung/48658
SUMMARY:Schülergottesdienst mit Eucharistiefeier in der Antoniuskapelle
PRIORITY:5
X-MICROSOFT-CDO-IMPORTANCE:1
CLASS:PUBLIC
END:VEVENT
END:VCALENDAR
