BEGIN:VCALENDAR
PRODID:-//kirchenweb.ch gmbh//veranstaltungsausgabe v2.0//DE
VERSION:2.0
METHOD:PUBLISH
BEGIN:VEVENT
DTSTART:20260921T114500Z
DTEND:20260921T150000Z
LOCATION:Pfarreizentrum\, Dorfstrasse 24\, 9205 Waldkirch
TRANSP:OPAQUE
SEQUENCE:0
UID:49997-veranstaltung@seelsorgeeinheitgossau.ch
DTSTAMP:20251210T084013Z
DESCRIPTION:Kontakt: admin.waldkirch@seelsorgeeinheitgossau.ch\n\nWeitere
  Infos: https://www.seelsorgeeinheitgossau.ch/veranstaltung/49997
SUMMARY:Pro Senectute - Stricken
PRIORITY:5
X-MICROSOFT-CDO-IMPORTANCE:1
CLASS:PUBLIC
END:VEVENT
END:VCALENDAR
