BEGIN:VCALENDAR
PRODID:-//kirchenweb.ch gmbh//veranstaltungsausgabe v2.0//DE
VERSION:2.0
METHOD:PUBLISH
BEGIN:VEVENT
DTSTART:20260905T160000Z
DTEND:20260905T164500Z
LOCATION:Kapelle Oberwald\, Obergrimm\, 9205 Waldkirch
TRANSP:OPAQUE
SEQUENCE:0
UID:50737-veranstaltung@seelsorgeeinheitgossau.ch
DTSTAMP:20260211T100236Z
DESCRIPTION:Kontakt: admin.waldkirch@seelsorgeeinheitgossau.ch\n\nWeitere
  Infos: https://www.seelsorgeeinheitgossau.ch/veranstaltung/50737
SUMMARY:Fatima-Prozession bei der Kapelle Oberwald
PRIORITY:5
X-MICROSOFT-CDO-IMPORTANCE:1
CLASS:PUBLIC
END:VEVENT
END:VCALENDAR
