BEGIN:VCALENDAR
PRODID:-//kirchenweb.ch gmbh//veranstaltungsausgabe v2.0//DE
VERSION:2.0
METHOD:PUBLISH
BEGIN:VEVENT
DTSTART:20260325T183000Z
DTEND:20260325T210000Z
LOCATION:Pfarreizentrum\, Dorfstrasse 24\, 9205 Waldkirch
TRANSP:OPAQUE
SEQUENCE:0
UID:51176-veranstaltung@seelsorgeeinheitgossau.ch
DTSTAMP:20260212T094254Z
DESCRIPTION:Kontakt: admin.waldkirch@seelsorgeeinheitgossau.ch\n\nWeitere
  Infos: https://www.seelsorgeeinheitgossau.ch/veranstaltung/51176
SUMMARY:Vortrag - Kloster Glattburg - Äbtissin Ancilla Zahner und
  Schwester Petra Sutter
PRIORITY:5
X-MICROSOFT-CDO-IMPORTANCE:1
CLASS:PUBLIC
END:VEVENT
END:VCALENDAR
