BEGIN:VCALENDAR
PRODID:-//kirchenweb.ch gmbh//veranstaltungsausgabe v2.0//DE
VERSION:2.0
METHOD:PUBLISH
BEGIN:VEVENT
DTSTART:20260510T090000Z
DTEND:20260510T100000Z
LOCATION:Kapelle Oberwald\, Obergrimm\, 9205 Waldkirch
TRANSP:OPAQUE
SEQUENCE:0
UID:51227-veranstaltung@seelsorgeeinheitgossau.ch
DTSTAMP:20260220T083537Z
DESCRIPTION:Kontakt: admin.waldkirch@seelsorgeeinheitgossau.ch\n\nWeitere
  Infos: https://www.seelsorgeeinheitgossau.ch/veranstaltung/51227
SUMMARY:Taufe in der Kapelle Oberwald
PRIORITY:5
X-MICROSOFT-CDO-IMPORTANCE:1
CLASS:PUBLIC
END:VEVENT
END:VCALENDAR
