BEGIN:VCALENDAR
PRODID:-//kirchenweb.ch gmbh//veranstaltungsausgabe v2.0//DE
VERSION:2.0
METHOD:PUBLISH
BEGIN:VEVENT
DTSTART:20260310T093000Z
DTEND:20260310T103000Z
LOCATION:Blasiuskirche\, Dorfstrasse 24\, 9205 Waldkirch
TRANSP:OPAQUE
SEQUENCE:0
UID:51308-veranstaltung@seelsorgeeinheitgossau.ch
DTSTAMP:20260309T081231Z
DESCRIPTION:Kontakt: admin.waldkirch@seelsorgeeinheitgossau.ch\n\nWeitere
  Infos: https://www.seelsorgeeinheitgossau.ch/veranstaltung/51308
SUMMARY:Trauerfeier für Eugen Sieber-Eberle
PRIORITY:5
X-MICROSOFT-CDO-IMPORTANCE:1
CLASS:PUBLIC
END:VEVENT
END:VCALENDAR
