BEGIN:VCALENDAR
PRODID:-//kirchenweb.ch gmbh//veranstaltungsausgabe v2.0//DE
VERSION:2.0
METHOD:PUBLISH
BEGIN:VEVENT
DTSTART:20260522T160000Z
DTEND:20260522T190000Z
LOCATION:Waldkirch\, \,
TRANSP:OPAQUE
SEQUENCE:0
UID:51385-veranstaltung@seelsorgeeinheitgossau.ch
DTSTAMP:20260313T062540Z
DESCRIPTION:Kontakt: admin.waldkirch@seelsorgeeinheitgossau.ch\n\nWeitere
  Infos: https://www.seelsorgeeinheitgossau.ch/veranstaltung/51385
SUMMARY:Flursegnung in Ronwil mit Kindern\, Katechetinnen und Christlichem
  Bauernbund
PRIORITY:5
X-MICROSOFT-CDO-IMPORTANCE:1
CLASS:PUBLIC
END:VEVENT
END:VCALENDAR
