BEGIN:VCALENDAR
PRODID:-//kirchenweb.ch gmbh//veranstaltungsausgabe v2.0//DE
VERSION:2.0
METHOD:PUBLISH
BEGIN:VEVENT
DTSTART:20260527T180000Z
DTEND:20260527T190000Z
LOCATION:Waldkirch\, \,
TRANSP:OPAQUE
SEQUENCE:0
UID:51538-veranstaltung@seelsorgeeinheitgossau.ch
DTSTAMP:20260313T095603Z
DESCRIPTION:Kontakt: admin.waldkirch@seelsorgeeinheitgossau.ch\n\nWeitere
  Infos: https://www.seelsorgeeinheitgossau.ch/veranstaltung/51538
SUMMARY:Flursegnung Fillisweid
PRIORITY:5
X-MICROSOFT-CDO-IMPORTANCE:1
CLASS:PUBLIC
END:VEVENT
END:VCALENDAR
